BEGIN:VCALENDAR
VERSION:2.0
PRODID:-//Epilepsy Mumbai - ECPv6.2.2.1//NONSGML v1.0//EN
CALSCALE:GREGORIAN
METHOD:PUBLISH
X-WR-CALNAME:Epilepsy Mumbai
X-ORIGINAL-URL:https://epilepsymumbai.org
X-WR-CALDESC:Events for Epilepsy Mumbai
REFRESH-INTERVAL;VALUE=DURATION:PT1H
X-Robots-Tag:noindex
X-PUBLISHED-TTL:PT1H
BEGIN:VTIMEZONE
TZID:Asia/Kolkata
BEGIN:STANDARD
TZOFFSETFROM:+0530
TZOFFSETTO:+0530
TZNAME:IST
DTSTART:20250101T000000
END:STANDARD
END:VTIMEZONE
BEGIN:VEVENT
DTSTART;TZID=Asia/Kolkata:20250712T140000
DTEND;TZID=Asia/Kolkata:20250712T170000
DTSTAMP:20260424T151354
CREATED:20250721T131654Z
LAST-MODIFIED:20250721T131654Z
UID:8935-1752328800-1752339600@epilepsymumbai.org
SUMMARY:Memory & Epilepsy | Online talk by Dr. Urvashi Shah (Neuropsychologist)
DESCRIPTION:Memory Mein Locha? \n— An online talk by our dear Dr. Urvashi Shah (Neuropsychologist) \nJoin us for Samman’s July Support Group session to explore memory\, brain health\, and get your questions answered! \n📅 Date: Saturday\, 12 July 2025\n🕝 Time: 2:30 PM\n💻 Platform: Zoom \nZoom link will be shared shortly. \nPlease block your calendar
URL:https://epilepsymumbai.org/event/memory-epilepsy-online-talk-by-dr-urvashi-shah-neuropsychologist/
LOCATION:Maharashtra
CATEGORIES:epilepsy awareness,epilepsy community,HEALTH,support group
END:VEVENT
END:VCALENDAR